BEGIN:VCALENDAR
VERSION:2.0
PRODID:-//wp-events-plugin.com//7.2.3.1//EN
TZID:America/New_York
X-WR-TIMEZONE:America/New_York
BEGIN:VEVENT
UID:3@billfarrish.com
DTSTART;TZID=America/New_York:20240608T180000
DTEND;TZID=America/New_York:20240608T190000
DTSTAMP:20250116T222410Z
URL:https://billfarrish.com/events/mill-pond-inn-tavern-2/
SUMMARY:Mill Pond Inn & Tavern
DESCRIPTION:Duo with bassist Rich Mollin The Mill Pond Inn &amp\; Tavern\, 
 102 Main Street\, Jefferson NY 12093  (Reservations recommended)
END:VEVENT
BEGIN:VTIMEZONE
TZID:America/New_York
X-LIC-LOCATION:America/New_York
BEGIN:DAYLIGHT
DTSTART:20240310T030000
TZOFFSETFROM:-0500
TZOFFSETTO:-0400
TZNAME:EDT
END:DAYLIGHT
END:VTIMEZONE
END:VCALENDAR